BEGIN:VCALENDAR
VERSION:2.0
CALSCALE:GREGORIAN
PRODID:adamgibbons/ics
METHOD:PUBLISH
X-PUBLISHED-TTL:PT1H
BEGIN:VEVENT
UID:2110@roma.convoca.la
SUMMARY:CYCLONOPEDIA. Presentazione del libro
DTSTAMP:20260421T164823Z
DTSTART:20260423T160000Z
DTEND:20260423T180000Z
URL:https://roma.convoca.la/event/cyclonopedia-presentazione-del-libro
GEO:41.84750222361696;12.484566402388115
LOCATION:Che Guevara Roma - Via Fontanellato 69
STATUS:CONFIRMED
CATEGORIES:Anticolonialismo,presentazione libri
END:VEVENT
BEGIN:VEVENT
UID:2129@roma.convoca.la
SUMMARY:SIAMO CAMPI DI BATTAGLIA
DTSTAMP:20260421T164823Z
DTSTART:20260423T170000Z
DTEND:20260424T000000Z
URL:https://roma.convoca.la/event/siamo-campi-di-battaglia
GEO:41.8923425;12.569105
LOCATION:CSOA Forte Prenestino - via Federico delpino\, Roma\, Italy
STATUS:CONFIRMED
CATEGORIES:Anticolonialismo,antirazzismo,banlieu,banlieues,decolonialismo,d
	ocumentario,film,quartieri,territori
END:VEVENT
END:VCALENDAR
