BEGIN:VCALENDAR
VERSION:2.0
CALSCALE:GREGORIAN
PRODID:adamgibbons/ics
METHOD:PUBLISH
X-PUBLISHED-TTL:PT1H
BEGIN:VEVENT
UID:2147@roma.convoca.la
SUMMARY:25 Aprile al Parco Gaslini
DTSTAMP:20260421T164027Z
DTSTART:20260425T090000Z
DTEND:20260425T170000Z
URL:https://roma.convoca.la/event/25-aprile-al-parco-gaslini
LOCATION:Parco Gaslini (CZ) - Parco Gaslini\, Catanzaro Lido\, Catanzaro\, 
	CZ
STATUS:CONFIRMED
CATEGORIES:25aprile26,comitato oltre i confini,marjan jamali,maysoon majidi
END:VEVENT
END:VCALENDAR
