BEGIN:VCALENDAR
VERSION:2.0
CALSCALE:GREGORIAN
PRODID:adamgibbons/ics
METHOD:PUBLISH
X-PUBLISHED-TTL:PT1H
BEGIN:VEVENT
UID:1628@roma.convoca.la
SUMMARY:Abolire gli accordi con Israele - Raccolta firme europea
DTSTAMP:20260421T164125Z
DTSTART:20270113T220000Z
DTEND:20270113T225500Z
URL:https://roma.convoca.la/event/abolire-gli-accordi-con-israele-raccolta-
	firme-europea
LOCATION:online - https://citizens-initiative.europa.eu/initiatives/details
	/2025/000005_en
STATUS:CONFIRMED
CATEGORIES:european citizen initiative,free palestine,raccolta firme online
END:VEVENT
END:VCALENDAR
