BEGIN:VCALENDAR
VERSION:2.0
CALSCALE:GREGORIAN
PRODID:adamgibbons/ics
METHOD:PUBLISH
X-PUBLISHED-TTL:PT1H
BEGIN:VEVENT
UID:2122@roma.convoca.la
SUMMARY:SAN LORENZO meets MENILMONTANT - quartieri ribelli a confronto
DTSTAMP:20260421T165435Z
DTSTART:20260424T140000Z
DTEND:20260424T210000Z
URL:https://roma.convoca.la/event/san-lorenzo-meets-menilmontant-quartieri-
	ribelli-a-confronto
LOCATION:Volsci 86 - Casa della Socialità - Via dei Volsci\, 86
STATUS:CONFIRMED
CATEGORIES:antifascismo,atletico san lorenzo,cena sociale,dibattito,sport p
	opolare
END:VEVENT
BEGIN:VEVENT
UID:2127@roma.convoca.la
SUMMARY:25 APRILE A SAN LORENZO - ANTIFASCISTA SEMPRE
DTSTAMP:20260421T165435Z
DTSTART:20260425T110000Z
DTEND:20260425T213000Z
URL:https://roma.convoca.la/event/25-aprile-a-san-lorenzo-antifascista-semp
	re
LOCATION:Volsci 86 - Casa della Socialità - Via dei Volsci\, 86
STATUS:CONFIRMED
CATEGORIES:
END:VEVENT
END:VCALENDAR
