BEGIN:VCALENDAR
VERSION:2.0
CALSCALE:GREGORIAN
PRODID:adamgibbons/ics
METHOD:PUBLISH
X-PUBLISHED-TTL:PT1H
BEGIN:VEVENT
UID:2148@roma.convoca.la
SUMMARY:Stand-up & comics against fascism!
DTSTAMP:20260421T152541Z
DTSTART:20260424T180000Z
DTEND:20260424T215500Z
DESCRIPTION:Dalla parte giusta della storia.\n\nVenerdì 24 aprile dalle 20 
	Stand-up & comics against fascism @ Casale Alba 2\n(Parco di Aguzzano - Re
	bibbia)\n\nSerata a sostegno della campagna Free All Antifas 🤝\n\nVerso il
	 25 aprile in piazza e nelle strade 🌹\n\nH.10:30 Piazza delle Camelie\n\nH
	o.10:30 Piramide\n\n#25aprile #antifa
URL:https://roma.convoca.la/event/stand-up-and-comics-against-fascism
GEO:41.9333164;12.5630057
LOCATION:Casale Alba 2 - Via Gina Mazza 1 (Parco di Aguzzano)
STATUS:CONFIRMED
CATEGORIES:antifascismo,fumetti,standup comedy,rebibbia,antifa,casalealba2
X-ALT-DESC;FMTTYPE=text/html:<p>Dalla parte giusta della storia.</p><p>Vene
	rdì 24 aprile dalle 20 Stand-up &amp; comics against fascism @ Casale Alba
	 2 (Parco di Aguzzano - Rebibbia)</p><p>Serata a sostegno della campagna F
	ree All Antifas 🤝</p><p>Verso il 25 aprile in piazza e nelle strade 🌹</p><
	p>H.10:30 Piazza delle Camelie</p><p>Ho.10:30 Piramide</p><p>#25aprile #an
	tifa</p>
BEGIN:VALARM
ACTION:DISPLAY
DESCRIPTION:Stand-up & comics against fascism!
TRIGGER:-PT1H
END:VALARM
END:VEVENT
END:VCALENDAR
