BEGIN:VCALENDAR
VERSION:2.0
CALSCALE:GREGORIAN
PRODID:adamgibbons/ics
METHOD:PUBLISH
X-PUBLISHED-TTL:PT1H
BEGIN:VEVENT
UID:2154@roma.convoca.la
SUMMARY:Serata Cantautorato
DTSTAMP:20260422T205456Z
DTSTART:20260508T200000Z
DTEND:20260509T000000Z
URL:https://roma.convoca.la/event/serata-cantautorato
LOCATION:Aula Studio Liberata - Università della Calabria\, Cubo 18C\, Aula
	 F4\, 87036 Rende\, CS
STATUS:CONFIRMED
CATEGORIES:ingresso gratuito
BEGIN:VALARM
ACTION:DISPLAY
DESCRIPTION:Serata Cantautorato
TRIGGER:-PT1H
END:VALARM
END:VEVENT
END:VCALENDAR
