BEGIN:VCALENDAR
VERSION:2.0
CALSCALE:GREGORIAN
PRODID:adamgibbons/ics
METHOD:PUBLISH
X-PUBLISHED-TTL:PT1H
BEGIN:VEVENT
UID:1886@roma.convoca.la
SUMMARY:SCIOPERO ANTAGONISTA PERMANENTE
DTSTAMP:20260421T051922Z
DTSTART:20260307T100000Z
DTEND:20260307T110000Z
DESCRIPTION:Due compa di Corpi e Terra dialogano\n\nsulla manifesta per uno
	 sciopero antagonista permanente\n\nsulla sanzione fucsia lanciate dall'as
	semblea per il 2026.\n\nAlle 11 su radiosonar.net [http://radiosonar.net]\
	n\nIl testo della manifesta a questo\nhttps://assembleacorpieterra.net/202
	6/03/01/sciopero-antagonista-permanente-2/\n[https://assembleacorpieterra.
	net/2026/03/01/sciopero-antagonista-permanente-2/]\n\nSanzione fucsia http
	s://assembleacorpieterra.net/sanzione-fucsia/\n[https://assembleacorpieter
	ra.net/sanzione-fucsia/]\n\n
URL:https://roma.convoca.la/event/sciopero-antagonista-permanente
LOCATION:online - https://RADIOSONAR.NET 
STATUS:CONFIRMED
CATEGORIES:transfemminismo,antispecismo
X-ALT-DESC;FMTTYPE=text/html:<p>Due compa di Corpi e Terra dialogano </p><p
	>sulla manifesta per uno sciopero antagonista permanente  </p><p>sulla san
	zione fucsia lanciate dall'assemblea  per il 2026. </p><p>Alle 11 su <a ta
	rget="_blank" href="http://radiosonar.net">radiosonar.net</a></p><p>Il tes
	to della manifesta a questo <a target="_blank" href="https://assembleacorp
	ieterra.net/2026/03/01/sciopero-antagonista-permanente-2/">https://assembl
	eacorpieterra.net/2026/03/01/sciopero-antagonista-permanente-2/</a></p><p>
	Sanzione fucsia <a target="_blank" href="https://assembleacorpieterra.net/
	sanzione-fucsia/">https://assembleacorpieterra.net/sanzione-fucsia/</a> </
	p><p></p>
BEGIN:VALARM
ACTION:DISPLAY
DESCRIPTION:SCIOPERO ANTAGONISTA PERMANENTE
TRIGGER:-PT1H
END:VALARM
END:VEVENT
END:VCALENDAR
