BEGIN:VCALENDAR
VERSION:2.0
CALSCALE:GREGORIAN
PRODID:adamgibbons/ics
METHOD:PUBLISH
X-PUBLISHED-TTL:PT1H
BEGIN:VEVENT
UID:2139@roma.convoca.la
SUMMARY:RACCONTACI LA TUA STORIA: ROMANE D'ADOZIONE
DTSTAMP:20260419T220506Z
DTSTART:20260429T160000Z
DTEND:20260429T183000Z
DESCRIPTION:A volte ritornano...ed è un bene perché il primo appuntamento è
	 stato davvero un\nintreccio di storie\, ricordi\, scambi e sono arrivati 
	audio\, testi\nscritti...quindi... rivederci e ascoltarci per condividere 
	è più che necessario.\n\nLa vita delle altre un po' come la nostra\, le di
	fferenze come finestre aperte su\naltri orizzonti: da dove vieni? Cosa ti 
	porti ancora dentro dei tuoi luoghi di\norigine? Com'era Roma quando l'hai
	 scelta? Cosa hai trovato? Te ne riandrai?\n\nMigranti tutte\, romane d'ad
	ozione in questa Città delle genti.\n\nSe ti piacciono le nostre iniziativ
	e puoi aiutarci col tuo 5x1000 codice fiscale\n97768200582
URL:https://roma.convoca.la/event/raccontaci-la-tua-storia-romane-dadozione
GEO:41.84750222361696;12.484566402388115
LOCATION:Che Guevara Roma - Via Fontanellato 69
STATUS:CONFIRMED
CATEGORIES:
X-ALT-DESC;FMTTYPE=text/html:<p>A volte ritornano...ed è un bene perché il 
	primo appuntamento è stato davvero un intreccio di storie, ricordi, scambi
	 e sono arrivati audio, testi scritti...quindi... rivederci e ascoltarci p
	er condividere è più che necessario.</p><p>La vita delle altre un po' come
	 la nostra, le differenze come finestre aperte su altri orizzonti: da dove
	 vieni? Cosa ti porti ancora dentro dei tuoi luoghi di origine? Com'era Ro
	ma quando l'hai scelta? Cosa hai trovato? Te ne riandrai?</p><p>Migranti t
	utte, romane d'adozione in questa Città delle genti.</p><p>Se ti piacciono
	 le nostre iniziative puoi aiutarci col tuo 5x1000 codice fiscale 97768200
	582</p>
BEGIN:VALARM
ACTION:DISPLAY
DESCRIPTION:RACCONTACI LA TUA STORIA: ROMANE D'ADOZIONE
TRIGGER:-PT1H
END:VALARM
END:VEVENT
END:VCALENDAR
