BEGIN:VCALENDAR
VERSION:2.0
CALSCALE:GREGORIAN
PRODID:adamgibbons/ics
METHOD:PUBLISH
X-PUBLISHED-TTL:PT1H
BEGIN:VEVENT
UID:1888@roma.convoca.la
SUMMARY:Proiezione: Pinkwashing Exposed
DTSTAMP:20260421T152540Z
DTSTART:20260315T163000Z
DESCRIPTION:Pinkwashing Exposed (2012\, 1h) è un documentario sull’attivism
	o contro il\npinkwashing e sulla solidarietà con la Palestina a Seattle\, 
	montato da Amy\nMahardy e diretto da Dean Spade.\n\nAttraverso la storia i
	spiratrice della vittoria di attivist3\, Pinkwashing\nExposed esplora come
	 funziona il pinkwashing e cosa stanno facendo attivist3\nqueer di Seattle
	 per contrastarlo.
URL:https://roma.convoca.la/event/proiezione-pinkwashing-exposed
GEO:41.8642676;12.4794871
LOCATION:Cagne Sciolte - Via Ostiense 137 b
STATUS:CONFIRMED
CATEGORIES:FreePalestine,transfemminismo,femminismo,palestina,diritti lgbtq
	+
X-ALT-DESC;FMTTYPE=text/html:<p></p><p>Pinkwashing Exposed (2012, 1h) è un 
	documentario sull’attivismo contro il pinkwashing e sulla solidarietà con 
	la Palestina a Seattle, montato da Amy Mahardy e diretto da Dean Spade.</p
	><p>Attraverso la storia ispiratrice della vittoria di attivist3, Pinkwash
	ing Exposed esplora come funziona il pinkwashing e cosa stanno facendo att
	ivist3 queer di Seattle per contrastarlo.</p>
BEGIN:VALARM
ACTION:DISPLAY
DESCRIPTION:Proiezione: Pinkwashing Exposed
TRIGGER:-PT1H
END:VALARM
END:VEVENT
END:VCALENDAR
