BEGIN:VCALENDAR
VERSION:2.0
CALSCALE:GREGORIAN
PRODID:adamgibbons/ics
METHOD:PUBLISH
X-PUBLISHED-TTL:PT1H
BEGIN:VEVENT
UID:2162@roma.convoca.la
SUMMARY:Proiezione del documentario "L'ultima neve" (34 minuti). Incontro c
	on la regista Veronica Machiavelli e con il ricercatore Enrico Mariani.
DTSTAMP:20260424T122024Z
DTSTART:20260508T170000Z
DESCRIPTION:Il documentario "L'ultima neve" realizzato da Veronica Machiave
	lli e Cecilia\nFasciani\, racconta le trasformazioni e le resistenze nei t
	erritori montani\ndell'Appennino colpiti dal sisma del 2016-17\, evidenzia
	ndo i conflitti\nambientali\, sociali e politici intorno agli investimenti
	 sulle\ninfrastrutture sciistiche. \nSarà presente Veronica Machiavelli ed
	 Enrico Mariani\, autore del libro Abitare\nsospeso. Etnografia nel post- 
	terremoto del 2016-17 in Appennino centrale\, uno\nstudio sui profondi cam
	biamenti del territori che furono epicentro della\nsequenza sismica del 20
	16.\n
URL:https://roma.convoca.la/event/proiezione-del-documentario-lultima-neve-
	34-minuti-incontro-con-la-regista-veronica-machiavelli-e-con-il-ricercator
	e-enrico-mariani
GEO:41.8923425;12.569105
LOCATION:CSOA Forte Prenestino - via Federico delpino\, Roma\, Italy
STATUS:CONFIRMED
CATEGORIES:proiezione,dibattito,incontro
X-ALT-DESC;FMTTYPE=text/html:<p>Il documentario&nbsp;"<em>L'ultima neve</em
	>" realizzato da Veronica Machiavelli e Cecilia Fasciani, racconta le tras
	formazioni e le resistenze nei territori montani dell'Appennino colpiti da
	l sisma del 2016-17,&nbsp;evidenziando i conflitti ambientali, sociali e p
	olitici intorno agli investimenti sulle infrastrutture&nbsp;sciistiche.&nb
	sp;<br>Sarà presente Veronica Machiavelli ed Enrico Mariani, autore del li
	bro A<em>bitare sospeso. Etnografia nel post- terremoto del 2016-17 in App
	ennino centrale</em>, uno studio sui profondi cambiamenti del territori ch
	e furono epicentro della sequenza sismica del 2016.<br></p>
BEGIN:VALARM
ACTION:DISPLAY
DESCRIPTION:Proiezione del documentario "L'ultima neve" (34 minuti). Incont
	ro con la regista Veronica Machiavelli e con il ricercatore Enrico Mariani
	.
TRIGGER:-PT1H
END:VALARM
END:VEVENT
END:VCALENDAR
