BEGIN:VCALENDAR
VERSION:2.0
CALSCALE:GREGORIAN
PRODID:adamgibbons/ics
METHOD:PUBLISH
X-PUBLISHED-TTL:PT1H
BEGIN:VEVENT
UID:2163@roma.convoca.la
SUMMARY:Mangia e Dibatti
DTSTAMP:20260424T181217Z
DTSTART:20260426T110000Z
DTEND:20260426T170000Z
DESCRIPTION:Mangia e Dibatti https://csoaipo.noblogs.org/2026/04/23/mangia-
	e-dibatti-26-04/\n[https://csoaipo.noblogs.org/2026/04/23/mangia-e-dibatti
	-26-04/]\n\nGiornata di discussione al CSOA IPO' di Marino\n\n * Ore 13:00
	 Pranzo sociale di sottoscrizione per i lavori della nuova sede del\n   ce
	ntro sociale\n\n * Ore 16:00 ASSEMBLEA Guerra e Fase - Dalle guerre preven
	tive\, ai governi\n   autoritari\, alle grandi mobilitazioni\, proviamo ad
	 ordinare il nostro\n   pensiero e il nostro agire.\n   \n   
URL:https://roma.convoca.la/event/mangia-e-dibatti
LOCATION:Centro Sociale IPO' - Via Capo d'Acqua\, 2 Marino
STATUS:CONFIRMED
CATEGORIES:
X-ALT-DESC;FMTTYPE=text/html:<p>Mangia e Dibatti  <a target="_blank" href="
	https://csoaipo.noblogs.org/2026/04/23/mangia-e-dibatti-26-04/">https://cs
	oaipo.noblogs.org/2026/04/23/mangia-e-dibatti-26-04/</a></p><p>Giornata di
	 discussione al CSOA IPO' di Marino </p><ul><li><p>Ore 13:00 Pranzo social
	e di sottoscrizione per i lavori della nuova sede del centro sociale </p><
	/li><li><p>Ore 16:00 ASSEMBLEA Guerra e Fase - Dalle guerre preventive, ai
	 governi autoritari, alle grandi mobilitazioni, proviamo ad ordinare il no
	stro pensiero e il nostro agire. </p><p></p></li></ul>
BEGIN:VALARM
ACTION:DISPLAY
DESCRIPTION:Mangia e Dibatti
TRIGGER:-PT1H
END:VALARM
END:VEVENT
END:VCALENDAR
