BEGIN:VCALENDAR
VERSION:2.0
CALSCALE:GREGORIAN
PRODID:adamgibbons/ics
METHOD:PUBLISH
X-PUBLISHED-TTL:PT1H
BEGIN:VEVENT
UID:2160@roma.convoca.la
SUMMARY:LABORATORIO DI AUTODIFESA ABITATIVA
DTSTAMP:20260423T131203Z
DTSTART:20260427T163000Z
DTEND:20260427T174500Z
DESCRIPTION:Sarà un momento per incontrarci e confrontarci su tutto ciò che
	 ruota intorno\nall’abitare (una casa\, un quartiere e una città) partendo
	 dalle nostre\nesperienze e bisogni\, cercando risposte e soluzioni nel mu
	tuo appoggio e nella\nsolidarietà.\n\nSe hai problemi col tuo proprietario
	\, se hai subito una minaccia di sfratto\, se\npensi che la casa sia prima
	 di tutto un diritto per tuttə\, ci vediamo ogni\nlunedì alle 18:30 al CSO
	AT AURO E MARCO in Viale dei Caduti nella Guerra di\nLiberazione\, 268.
URL:https://roma.convoca.la/event/laboratorio-di-autodifesa-abitativa-1
GEO:41.787833;12.4460882
LOCATION:CSOAT Auro e Marco - Viale dei Caduti nella Guerra di Liberazione\
	, 270
STATUS:CONFIRMED
CATEGORIES:diritto all'abitare,laboratorio,Roma sud
X-ALT-DESC;FMTTYPE=text/html:<p>Sarà un momento per incontrarci e confronta
	rci su tutto ciò che ruota intorno all’abitare (una casa, un quartiere e u
	na città) partendo dalle nostre esperienze e bisogni, cercando risposte e 
	soluzioni nel mutuo appoggio e nella solidarietà.</p><p>Se hai problemi co
	l tuo proprietario, se hai subito una minaccia di sfratto, se pensi che la
	 casa sia prima di tutto un diritto per tuttə, ci vediamo <strong>ogni lun
	edì alle 18:30</strong> al CSOAT AURO E MARCO in Viale dei Caduti nella Gu
	erra di Liberazione, 268.</p>
BEGIN:VALARM
ACTION:DISPLAY
DESCRIPTION:LABORATORIO DI AUTODIFESA ABITATIVA
TRIGGER:-PT1H
END:VALARM
END:VEVENT
END:VCALENDAR
