BEGIN:VCALENDAR
VERSION:2.0
CALSCALE:GREGORIAN
PRODID:adamgibbons/ics
METHOD:PUBLISH
X-PUBLISHED-TTL:PT1H
BEGIN:VEVENT
UID:2153@roma.convoca.la
SUMMARY:Festival delle Periferie
DTSTAMP:20260422T210734Z
DTSTART:20260527T220000Z
DTEND:20260530T212500Z
URL:https://roma.convoca.la/event/festival-delle-periferie
LOCATION:Aula Studio Liberata - Università della Calabria\, Cubo 18C\, Aula
	 F4\, 87036 Rende\, CS
STATUS:CONFIRMED
CATEGORIES:
BEGIN:VALARM
ACTION:DISPLAY
DESCRIPTION:Festival delle Periferie
TRIGGER:-PT1H
END:VALARM
END:VEVENT
END:VCALENDAR
