BEGIN:VCALENDAR
VERSION:2.0
CALSCALE:GREGORIAN
PRODID:adamgibbons/ics
METHOD:PUBLISH
X-PUBLISHED-TTL:PT1H
BEGIN:VEVENT
UID:2164@roma.convoca.la
SUMMARY:Critical Mass
DTSTAMP:20260425T004226Z
DTSTART:20260529T173000Z
DESCRIPTION:Ogni ultimo venerdì del mese prende vita la massa critica di ci
	clo-naut*\,\nsfoggiando tutti i suoi suoni e colori!\n\nDiventiamo il traf
	fico e mostriamo agli auto-inscatolati quanto è bello\npedalare\, ridere e
	 scherzare.\n\nNon essere sessista\, autoritario e molesto. In generale no
	n diventare un accollo\nper chi ti sta intorno. La critical Mass deve pote
	r essere un luogo spensierato\ne il più sicuro possibile per chi la attrav
	ersa.\n\nPorta la bici e lascia a casa la cupidigia.
URL:https://roma.convoca.la/event/critical-mass-6
GEO:41.894435;12.504673
LOCATION:Piazza Vittorio emanuele - Piazza Vittorio Emanuele
STATUS:CONFIRMED
CATEGORIES:bicicletta,ecologismo
X-ALT-DESC;FMTTYPE=text/html:<p>Ogni ultimo venerdì del mese prende vita la
	 massa critica di ciclo-naut*, sfoggiando tutti i suoi suoni e colori!</p>
	<p>Diventiamo il traffico e mostriamo agli auto-inscatolati quanto è bello
	 pedalare, ridere e scherzare.</p><p>Non essere sessista, autoritario e  m
	olesto. In generale non diventare un accollo per chi ti sta intorno. La cr
	itical Mass deve poter essere un luogo spensierato e il più sicuro possibi
	le per chi la attraversa.</p><p>Porta la bici e lascia a casa la cupidigia
	.</p>
BEGIN:VALARM
ACTION:DISPLAY
DESCRIPTION:Critical Mass
TRIGGER:-PT1H
END:VALARM
END:VEVENT
END:VCALENDAR
