BEGIN:VCALENDAR
VERSION:2.0
CALSCALE:GREGORIAN
PRODID:adamgibbons/ics
METHOD:PUBLISH
X-PUBLISHED-TTL:PT1H
BEGIN:VEVENT
UID:2145@roma.convoca.la
SUMMARY:Corteo Antifascista
DTSTAMP:20260421T005509Z
DTSTART:20260425T080000Z
DTEND:20260425T150000Z
URL:https://roma.convoca.la/event/corteo-antifascista-1
LOCATION:Piazza Kennedy - Piazza Kennedy\, 87100 Cosenza\, CS
STATUS:CONFIRMED
CATEGORIES:corteo,25aprile26,tutta cosenza
BEGIN:VALARM
ACTION:DISPLAY
DESCRIPTION:Corteo Antifascista
TRIGGER:-PT1H
END:VALARM
END:VEVENT
END:VCALENDAR
