BEGIN:VCALENDAR
VERSION:2.0
CALSCALE:GREGORIAN
PRODID:adamgibbons/ics
METHOD:PUBLISH
X-PUBLISHED-TTL:PT1H
BEGIN:VEVENT
UID:2146@roma.convoca.la
SUMMARY:Concerto - Voce Africa
DTSTAMP:20260421T152542Z
DTSTART:20260522T190000Z
DTEND:20260522T220000Z
URL:https://roma.convoca.la/event/concerto-voce-africa
LOCATION:Piazza S. Teresa - Piazza S. Teresa\, Cosenza\, CS
STATUS:CONFIRMED
CATEGORIES:
BEGIN:VALARM
ACTION:DISPLAY
DESCRIPTION:Concerto - Voce Africa
TRIGGER:-PT1H
END:VALARM
END:VEVENT
END:VCALENDAR
