BEGIN:VCALENDAR
VERSION:2.0
CALSCALE:GREGORIAN
PRODID:adamgibbons/ics
METHOD:PUBLISH
X-PUBLISHED-TTL:PT1H
BEGIN:VEVENT
UID:1887@roma.convoca.la
SUMMARY:Ciclo Corsi in Certosa
DTSTAMP:20260421T051609Z
DTSTART:20260308T123000Z
DTEND:20260308T150000Z
DESCRIPTION:🗓️Quarta lezione ore 13.30\n❣️ Giardino Ciro Principessa\nLargo d
	ei Savorgnan\n\nDopo l'ultima lezione del ciclo corso per chi vuole si par
	te insieme verso il\ncorteo ⚙️👣\nSi farà una pasta veloce e si va 🍝👣\n🪧Cort
	eo ore 17:00 partenza circo Massimo
URL:https://roma.convoca.la/event/ciclo-corsi-in-certosa-5
LOCATION:Giardino Ciro Principessa - Largo dei Savorgnan
STATUS:CONFIRMED
CATEGORIES:
X-ALT-DESC;FMTTYPE=text/html:<p>🗓️Quarta lezione ore 13.30<br>❣️ Giardino Cir
	o Principessa<br>Largo dei Savorgnan<br><br>Dopo l'ultima lezione del cicl
	o corso per chi vuole si parte insieme verso il corteo ⚙️👣<br>Si farà una p
	asta veloce e si va 🍝👣<br>🪧Corteo ore 17:00 partenza circo Massimo</p>
BEGIN:VALARM
ACTION:DISPLAY
DESCRIPTION:Ciclo Corsi in Certosa
TRIGGER:-PT1H
END:VALARM
END:VEVENT
END:VCALENDAR
