BEGIN:VCALENDAR
VERSION:2.0
CALSCALE:GREGORIAN
PRODID:adamgibbons/ics
METHOD:PUBLISH
X-PUBLISHED-TTL:PT1H
BEGIN:VEVENT
UID:2166@roma.convoca.la
SUMMARY:Biomercato in certosa
DTSTAMP:20260425T175349Z
DTSTART:20260502T080000Z
DTEND:20260502T120000Z
DESCRIPTION:Ogni sabato mattina dalle 10 alle 14\, per una spesa consapevol
	e
URL:https://roma.convoca.la/event/biomercato-in-certosa-12
LOCATION:Giardino liberato in certosa - Via Galeazzo Alessi
STATUS:CONFIRMED
CATEGORIES:
X-ALT-DESC;FMTTYPE=text/html:<p>Ogni sabato mattina dalle 10 alle 14, per u
	na spesa consapevole </p>
BEGIN:VALARM
ACTION:DISPLAY
DESCRIPTION:Biomercato in certosa
TRIGGER:-PT1H
END:VALARM
END:VEVENT
END:VCALENDAR
