BEGIN:VCALENDAR
VERSION:2.0
CALSCALE:GREGORIAN
PRODID:adamgibbons/ics
METHOD:PUBLISH
X-PUBLISHED-TTL:PT1H
BEGIN:VEVENT
UID:2158@roma.convoca.la
SUMMARY:APERTURE - Termine mostra
DTSTAMP:20260423T125508Z
DTSTART:20260523T210000Z
DTEND:20260523T210000Z
URL:https://roma.convoca.la/event/aperture-termine-mostra
LOCATION:Centro di aggregazione giovanile - Museo "Cesare Baccelli" - Maran
	o Principato (CS)
STATUS:CONFIRMED
CATEGORIES:mostra
BEGIN:VALARM
ACTION:DISPLAY
DESCRIPTION:APERTURE - Termine mostra
TRIGGER:-PT1H
END:VALARM
END:VEVENT
END:VCALENDAR
