BEGIN:VCALENDAR
VERSION:2.0
CALSCALE:GREGORIAN
PRODID:adamgibbons/ics
METHOD:PUBLISH
X-PUBLISHED-TTL:PT1H
BEGIN:VEVENT
UID:2165@roma.convoca.la
SUMMARY:25 Aprile - Porta un fiore alle partigianx
DTSTAMP:20260425T001935Z
DTSTART:20260425T073000Z
DTEND:20260425T160000Z
DESCRIPTION:Per il sesto anno consecutivo festeggiamo il 25Aprile ricordand
	o e rendendo\nomaggio ai/alle partigian3 resistenti del quartiere Prati\, 
	celebrando insieme la\nLiberazione.\n\nAlle ore 9.30 passeggiata antifasci
	sta nei luoghi della Resistenza di Prati\n(partenza da viale delle Milizie
	 angolo viale Angelico)\, con omaggio finale alla\ntarga ai partigiani di 
	viaAndrea Doria.\n\nDalle ore 11.30\, a Via Pietro Pomponazzi\, brindisi r
	esistente e aperitivo in\nmusica con jazz.all.inferno.\n\nA seguire specia
	l guest Gwogiagia live in concerto! Dalle ore 14 pranzo a Valle\nAurelia p
	resso i Palazzi rossi.Le Tigri di Mompracem\n\nspazio sociale ex51
URL:https://roma.convoca.la/event/25-aprile-pora-un-fiore-alle-partigianx
LOCATION:Via delle Milizie - Viale angelico/Via delle Milizie
STATUS:CONFIRMED
CATEGORIES:antifascismo,resistenza
X-ALT-DESC;FMTTYPE=text/html:<p>Per il sesto anno consecutivo festeggiamo i
	l 25Aprile ricordando e rendendo omaggio ai/alle partigian3 resistenti del
	 quartiere Prati, celebrando insieme la Liberazione. </p><p>Alle ore 9.30 
	passeggiata antifascista nei luoghi della Resistenza di Prati (partenza da
	 viale delle Milizie angolo viale Angelico), con omaggio finale alla targa
	 ai partigiani di viaAndrea Doria. </p><p>Dalle ore 11.30, a Via Pietro Po
	mponazzi, brindisi resistente e aperitivo in musica con jazz.all.inferno. 
	</p><p>A seguire special guest Gwogiagia live in concerto! Dalle ore 14 pr
	anzo a Valle Aurelia presso i Palazzi rossi.Le Tigri di Mompracem</p><p>sp
	azio sociale ex51</p>
BEGIN:VALARM
ACTION:DISPLAY
DESCRIPTION:25 Aprile - Porta un fiore alle partigianx
TRIGGER:-PT1H
END:VALARM
END:VEVENT
END:VCALENDAR
